Workbook

Sheet 申請書
A1: 御前崎スポーツ振興プロジェクト(OSP)合宿予約申請書
F2: 令和5年 月 日
A3: 団体名 代表者 | B3: 団体名 | F3: 代表者氏名
B4: 団体住所 | F4: 団体電話番号
A5: 合宿 （交渉） 担当者 | B5: 氏 名 | F5: 住 所
B6: 電話番号 | F6: 携帯電話
B7: メールアドレス
A8: 種 目
A9: 合宿期間 | B9: 令和 年 月 日～ 月 日 泊 日 （朝食 回・夕食 回） | H9: 宿泊日数
A10: 体育施設関係 | B10: 利用希望施設 | C10: 施設名 | D10: 〇を付ける | E10: 利用日数 | F10: 金額（目安） | G10: 施 設 概 要
C11: B&G体育館 | F11: 2020 | G11: バレーコート２面分の体育館
C12: 地区センター体育館 | F12: 1100 | G12: バレーコート１～２面分の体育館
C13: 浜岡陸上競技場 | F13: 3800 | G13: 陸上（全天候型）・サッカー等（天然芝）
C14: 御前崎陸上競技場 | F14: 1050 | G14: 常設トラックがない運動場
C15: 浜岡野球場 | F15: 3000 | G15: 高校野球予選の開催球場（照明観覧席有）
C16: 御前崎野球場 | F16: 1050 | G16: ナイター設備のある野球場（観覧席無）
C17: ネクスタフィールド | F17: 82500 | G17: サッカー日本代表も利用する天然芝フィールド
C18: その他希望施設
B19: 雨天時の対応
B20: ※金額は１日（昼間）利用した場合の料金です。利用形態で変動します。ﾈｸｽﾀﾌｨｰﾙﾄﾞは6時間使用した場合。
A21: 宿泊関係 | B21: 宿泊希望先 （〇で囲む） | C21: 民宿（旅館含） ・ ビジネスホテル ・ ホテル
B22: 宿泊人数 | C22: ① 0～3歳児 | E22: 男性 | G22: 女性 | I22: 宿泊代・弁当代は一括請求（振込・手数料は利用者負担）となります。体育施設は現地払いです。
C23: ② 4・5歳児 | E23: 男性 | G23: 女性
C24: ③ 小学生 | E24: 男性 | G24: 女性
C25: ④ 中学生 | E25: 男性 | G25: 女性
C26: ⑤ 高校生 | E26: 男性 | G26: 女性
C27: ⑥ 大学生 | E27: 男性 | G27: 女性
C28: ⑦ 大 人 | E28: 男性 | G28: 女性
C29: 計 | E29: 男性 | F29: =SUM(F22:F28) -> 0 | G29: 女性 | H29: =SUM(H22:H28) -> 0 | I29: =F29+H29 -> 0
B30: 希望 部屋割り | C30: 大部屋 部屋 ・ シングル 部屋
C31: ※大部屋は2～10人程度を想定していますが宿泊施設により異なります。
B32: 希望金額 （〇で囲む） | C32: 7,500円/人以下 ・ 10,000円/人以下 ・ 12,000円/人以下 ・ 12,001円/人以上
C33: ※料金は1泊2食（税込）の目安の料金です。
C34: ※食事が不要の場合等減額になりますので要相談してください。
A35: 昼食 | B35: 弁当（お茶付） | C35: 回数➡ | D35: 0 | E35: 個数➡ | F35: 0 | G35: ※金額は900円程度
A36: 備考
A37: ※申請後詳細を協議の上決定していきますのでご安心ください。※記載の個人情情報等については、当該申請関連以外では使用しません。
A38: □ 注意事項を承諾した上で申し込みます。（□にレ点を入れてください）

Sheet 見積書
A1: 御前崎スポーツ振興プロジェクト(OSP)合宿予約見積書
F2: =申請書!F2 -> 令和5年 月 日
A3: 団体名 代表者 | B3: 団体名 | C3: =申請書!C3 -> 0 | F3: 代表者氏名 | G3: =申請書!G3 -> 0
B4: 団体住所 | C4: =申請書!C4 -> 0 | F4: 団体電話番号 | G4: =申請書!G4 -> 0
A5: 合宿 （交渉） 担当者 | B5: 氏 名 | C5: =申請書!C5 -> 0 | F5: 住 所 | G5: =申請書!G5 -> 0
B6: 電話番号 | C6: =申請書!C6 -> 0 | F6: 携帯電話 | G6: =申請書!G6 -> 0
B7: メールアドレス | C7: =申請書!C7 -> 0
A8: 種 目 | B8: =申請書!B8 -> 0
A9: 合宿期間 | B9: =申請書!B9 -> 令和 年 月 日～ 月 日 泊 日 （朝食 回・夕食 回）
A10: 体育施設関係 | B10: 利用希望施設 | C10: 施設名 | D10: 金額（目安） | E10: 利用日数 | F10: 計 | G10: 施 設 概 要
C11: B&G体育館 | D11: 2020 | E11: =申請書!E11 -> 0 | F11: =D11*E11 -> 0 | G11: バレーコート２面分の体育館
C12: 地区センター体育館 | D12: 1100 | E12: =申請書!E12 -> 0 | F12: =D12*E12 -> 0 | G12: バレーコート１～２面分の体育館
C13: 浜岡陸上競技場 | D13: 3800 | E13: =申請書!E13 -> 0 | F13: =D13*E13 -> 0 | G13: 陸上（全天候型）・サッカー等（天然芝）
C14: 御前崎陸上競技場 | D14: 1050 | E14: =申請書!E14 -> 0 | F14: =D14*E14 -> 0 | G14: 常設トラックがない運動場
C15: 浜岡野球場 | D15: 3000 | E15: =申請書!E15 -> 0 | F15: =D15*E15 -> 0 | G15: 高校野球予選の開催球場（照明観覧席有）
C16: 御前崎野球場 | D16: 1050 | E16: =申請書!E16 -> 0 | F16: =D16*E16 -> 0 | G16: ナイター設備のある野球場（観覧席無）
C17: ネクスタフィールド | D17: 82500 | E17: =申請書!E17 -> 0 | F17: =D17*E17 -> 0 | G17: サッカー日本代表も利用する天然芝フィールド
C18: その他希望施設 | D18: =申請書!D18 -> 0
B19: 雨天時の対応 | C19: =申請書!C19 -> 0
B20: ※金額は１日（昼間）利用した場合の料金です。利用形態で変動します。ﾈｸｽﾀﾌｨｰﾙﾄﾞは6時間使用した場合。
A21: 宿泊関係 | B21: 宿泊先 | C21: 名称： （静岡県御前崎市 ・℡ ）
B22: 宿泊人数 | C22: ① 0～3歳児 | E22: 男性 | F22: =申請書!F22 -> 0 | G22: 女性 | H22: =申請書!H22 -> 0 | I22: 宿泊代・弁当代は原則振込（手数料は利用者負担）となります。体育施設は現地払いです。
C23: ② 4・5歳児 | E23: 男性 | F23: =申請書!F23 -> 0 | G23: 女性 | H23: =申請書!H23 -> 0
C24: ③ 小学生 | E24: 男性 | F24: =申請書!F24 -> 0 | G24: 女性 | H24: =申請書!H24 -> 0
C25: ④ 中学生 | E25: 男性 | F25: =申請書!F25 -> 0 | G25: 女性 | H25: =申請書!H25 -> 0
C26: ⑤ 高校生 | E26: 男性 | F26: =申請書!F26 -> 0 | G26: 女性 | H26: =申請書!H26 -> 0
C27: ⑥ 大学生 | E27: 男性 | F27: =申請書!F27 -> 0 | G27: 女性 | H27: =申請書!H27 -> 0
C28: ⑦ 大 人 | E28: 男性 | F28: =申請書!F28 -> 0 | G28: 女性 | H28: =申請書!H28 -> 0
C29: 計 | E29: 男性 | F29: =SUM(F22:F28) -> 0 | G29: 女性 | H29: =SUM(H22:H28) -> 0 | I29: =F29+H29 -> 0
B30: 部屋割り | C30: =申請書!C30 -> 大部屋 部屋 ・ シングル 部屋
B32: 料 金 | C32: 区分 | D32: 単価 | E32: 人数 | F32: 計
C33: ① 0～3歳児 | D33: 0 | E33: =F22+H22 -> 0 | F33: =D33*E33 -> 0 | G33: ※宿泊代、弁当代は税込金額です。 ※単価は基本料金です（要望により変動有）。
C34: ② 4・5歳児 | D34: 7300 | E34: =F23+H23 -> 0 | F34: =D34*E34 -> 0
C35: ③ 小学生 | D35: 7300 | E35: =F24+H24 -> 0 | F35: =D35*E35 -> 0
C36: ④ 中学生 | D36: 7300 | E36: =F25+H25 -> 0 | F36: =D36*E36 -> 0 | H36: 宿泊日数 | I36: =申請書!I9 -> 0
C37: ⑤ 高校生 | D37: 7300 | E37: =F26+H26 -> 0 | F37: =D37*E37 -> 0 | H37: 計 | I37: =(F33+F34+F35+F36+F37+F38+F39)*I36 -> 0
C38: ⑥ 大学生 | D38: 7300 | E38: =F27+H27 -> 0 | F38: =D38*E38 -> 0
C39: ⑦ 大 人 | D39: 7300 | E39: =F28+H28 -> 0 | F39: =D39*E39 -> 0
A40: 昼食 | B40: 弁当（お茶付） | C40: 回数➡ | D40: =申請書!D35 -> 0 | E40: 個数➡ | F40: =申請書!F35 -> 0 | G40: 単価➡ | H40: 900 | I40: =D40*F40*H40 -> 0
A41: 備考 | B41: 注意：宿泊施設は５日前（民宿）・14日前（ホテル）、体育施設は７日前（体育館）・２日前（グラウンド・野球場）、弁当は３日前からキャンセル料が発生しますのでご注意ください。
...

Sheet 注意事項
A1: 御前崎市スポーツ振興プロジェクト（OSP)申請等の注意事項
B3: 申請
B4: ・申請は必ずメールにて申請してください。（様式使用）
B5: ・スポーツ合宿は原則宿泊を伴うものとしてください。（日帰りや市外への宿泊厳禁）
B6: ・申請及び申請後の窓口は、原則本協会（℡0548-63-2001）と行ってください。
B8: 利用料金（宿泊・体育施設、弁当）等
B9: ・利用料金は原則として、本協会から一括して請求・徴収いたします。
B10: ・体育施設については条例に定めがあるため、現地払いでお願いします。
B11: ・体育施設の利用は、申請書が必要であるため現地で申請書の記入をお願いします。
B12: ・利用料金は、本協会への原則振込となります。（キャンセル料金も同様）
B13: ・振込手数料は、利用者負担でお願いします。（キャンセル料金も同様）
B15: キャンセル料金
B16: ・宿泊・体育施設・弁当には、キャンセル料が発生しますのでご注意ください。
... B31: ・合宿以外に観光や体験等の希望があればお知らせください。
C35: 御前崎市観光協会は、皆様が快適に本市をご利用いただけるよう、今後、
C36: 利用したい・泊まりたい・遊びにきたいと思っていただけるよう全力で
C37: サポートいたします。
H40: 御前崎市観光協会
H41: ℡0548-63-2001 FAX0548-63-6699
H42: mail：omaezaki-inf@mail.wbs.ne.jp
